BEGIN:VCALENDAR
VERSION:2.0
PRODID:-//ChamberMaster//Event Calendar 2.0//EN
METHOD:PUBLISH
X-PUBLISHED-TTL:P3D
REFRESH-INTERVAL:P3D
CALSCALE:GREGORIAN
BEGIN:VEVENT
DTSTART:20180704T233000Z
DTEND:20180705T033000Z
X-MICROSOFT-CDO-ALLDAYEVENT:FALSE
SUMMARY:Weslaco 100 4th of July Brews & Cue Fundraiser
DESCRIPTION:4th Brews and Cue Fundraiser\n\nEnjoy the City fireworks in style! Come and feast on delicious BBQ made by Weslaco's own\, Chef Chris Cuellar and World Food Champion & BBQ connoisseur\, Fred Robles!
X-ALT-DESC;FMTTYPE=text/html:<span style="font-size:12px\;"><span style="font-family:arial\;">4<sup>th</sup> Brews and Cue Fundraiser<br />\n<span style="font-weight:normal\;">Enjoy the City fireworks in style!</span> <span style="font-weight:normal\;">Come and feast on delicious BBQ made by Weslaco&rsquo\;s own\, Chef Chris Cuellar and World Food Champion &amp\; BBQ connoisseur\, Fred Robles! </span></span></span>
LOCATION:Mid Valley Airport 1909 Joe Stephens Ave. Weslaco\, TX 78596
UID:e.1244.16911
SEQUENCE:3
DTSTAMP:20260421T060233Z
URL:https://business.weslaco.com/events/details/weslaco-100-4th-of-july-brews-cue-fundraiser-16911
END:VEVENT

END:VCALENDAR
