BEGIN:VCALENDAR
VERSION:2.0
PRODID:-//ChamberMaster//Event Calendar 2.0//EN
METHOD:PUBLISH
X-PUBLISHED-TTL:P3D
REFRESH-INTERVAL:P3D
CALSCALE:GREGORIAN
BEGIN:VEVENT
DTSTART:20191206T173000Z
DTEND:20191206T200000Z
X-MICROSOFT-CDO-ALLDAYEVENT:FALSE
SUMMARY:Weslaco 100 Century Leader Luncheon
DESCRIPTION:Kicking off the Weslaco 100 celebration will be the Century Leader Luncheon from 11:30 a.m. to 2 p.m. at the Knapp Medical Center Conference Center. \n\nDr. Ray Perryman\, President and CEO of The Perryman Group\, will be the keynote speaker. The Weslaco Economic Development Corporation (EDC) is sponsoring Dr. Perryman's presentation as an entertaining and educational opportunity for community and business leaders.\n\nPerryman\, the unofficial Texas economist with a great sense of humor\, heads an economic research and analysis firm based in Waco. His firm has served the needs of more than 2\,000 clients ranging from major corporations to small startups and from local communities to the federal government.\n\n\nTracy Bullion chairs the committee planning and implementing the luncheon. She and her volunteers have thoughtfully planned a Weslaco/Valley themed meal which will be prepared by Chef Roberto Torres and other special touches to honor Weslaco's past\, present\, and future.\n\n\n\nSeating is limited\, so book your tickets now for this special beginning to Weslaco's 100th birthday.
X-ALT-DESC;FMTTYPE=text/html:<p style="margin: 0px 0px 6px\; font-family: Helvetica\, Arial\, sans-serif\; color: rgb(29\, 33\, 41)\; font-size: 14px\;">Kicking off the Weslaco 100 celebration&nbsp\;will be the Century Leader Luncheon from 11:30 a.m. to 2 p.m. at the Knapp Medical Center Conference Center.&nbsp\;<br />\nDr. Ray Perryman\, President and CEO of The Perryman Group\, will be the keynote speaker. The Weslaco Economic Development Corporation (EDC) is sponsoring Dr. Perryman&rsquo\;s presentation as an entertaining and educational opportunity for community and business leaders.<br />\nPerryman\, the unofficial Texas economist with a great sense of humor\, heads an economic research and analysis firm based in Waco. His firm has served the needs of more than 2\,000 clients ranging from major corporations to small startups and from local communities to the federal government.</p>\n\n<div class="text_exposed_show" style="display: inline\; font-family: Helvetica\, Arial\, sans-serif\; color: rgb(29\, 33\, 41)\; font-size: 14px\;">\n<p style="margin: 6px 0px\; font-family: inherit\;">Tracy Bullion chairs the committee planning and implementing the luncheon. She and her volunteers have thoughtfully planned a Weslaco/Valley themed meal which will be prepared by Chef Roberto Torres and other special touches to honor Weslaco&rsquo\;s past\, present\, and future.</p>\n\n<p style="margin: 6px 0px\; font-family: inherit\;"><br />\nSeating is limited\, so book your tickets now for this special beginning to Weslaco&rsquo\;s 100th birthday.</p>\n</div>\n
LOCATION:Knapp Medical Conference Center
UID:e.1244.18817
SEQUENCE:3
DTSTAMP:20260419T234328Z
URL:https://business.weslaco.com/events/details/weslaco-100-century-leader-luncheon-18817
END:VEVENT

END:VCALENDAR
