BEGIN:VCALENDAR
VERSION:2.0
PRODID:-//ChamberMaster//Event Calendar 2.0//EN
METHOD:PUBLISH
X-PUBLISHED-TTL:P3D
REFRESH-INTERVAL:P3D
CALSCALE:GREGORIAN
BEGIN:VEVENT
DTSTART:20191208T220000Z
DTEND:20191208T230000Z
X-MICROSOFT-CDO-ALLDAYEVENT:FALSE
SUMMARY:Weslaco 100 People and Pet Costume Parade
DESCRIPTION:Weslaco 100 is rejuvenating a Weslaco tradition. For years\, children and their pets dressed in costume and walked several blocks to form the annual parade. This year\, families or individuals with or without a pet or child are welcome to participate. Whether one participant or many\, creativity is key. First through third place prizes will be awarded.\n\nTo register\, go to www.weslaco100.org
X-ALT-DESC;FMTTYPE=text/html:<span style="color: rgb(28\, 30\, 33)\; font-family: Helvetica\, Arial\, sans-serif\; font-size: 14px\;">Weslaco 100 is rejuvenating a Weslaco tradition. For years\, children and their pets dressed in costume and walked several blocks to form the annual parade. This year\, families or individuals with or without a pet or child are welcome to participate. Whether one participant or many\, creativity is key. First through third place prizes will be awarded.</span><br style="color: rgb(28\, 30\, 33)\; font-family: Helvetica\, Arial\, sans-serif\; font-size: 14px\;" />\n<span style="color: rgb(28\, 30\, 33)\; font-family: Helvetica\, Arial\, sans-serif\; font-size: 14px\;">To register\, go to&nbsp\;</span><a data-ft="{&quot\;tn&quot\;:&quot\;-U&quot\;}" data-lynx-mode="async" data-lynx-uri="https://l.facebook.com/l.php?u=http%3A%2F%2Fwww.weslaco100.org%2F%3Ffbclid%3DIwAR1Rfqlw9tzqm2ZQnV74eahjQaGurCvSJfx8m6NWgOm-zb9gYlHDg88RieE&amp\;h=AT2N7cI964SSLRZVKtaBngnv9XqrtBSmDv4ie_2ubQlRPXNSOe4fq9fCk5qJBuYKN_AUOmoDqJ84H3YuWg5KY-uCbXh8LwPksiEdA4C0Cvyh2c8AAOi_-N8oxLmZgljiQaj-uD1E-zA55P86rkmppLS60LJFTvAYvsnWMlRBRbyVXmSHKkzohauu13JuokqMVImzeTECCs0TmY7VYyu4yxZX1J9ftxUvPQkNekbldifdPaMXOQFPA5nRv1DPrbfzrVZ7k9iWQh7rj6UGH_D_V6Z5Pq25B9VmG3Ql2CVw1pKZMwD5xIZKJDr-t7GjgXAH-ptCbTDWaA_Q3W8T1ahiv5BT5WqiZ2U5txYBStRCo1OJJLC6i6eMgOnYD4ZnBknjfzkdek-_ivb4G5UGnhBAERycYZMNoCwPp89drW-2kapaPvodaYcT936UK-NUSzQxWJGCDUbMLwu4_xLQRe4qFCVrlBwZZyzFvLLyn5woNMJq6cMX4HUmwekD_UfrhRft_j8L-XkUR8b5tQHR5yooPjn1xnEjLS-E7UwDCTin9dcx4a1lkd0yKAj1eYhMLqpXqZCb3Z3aABGZVQmeBKjOO7kq_rvZAPqAogYLgkiMfXoWz_Ck2uRASjbeVJliWAh9mMg" href="http://www.weslaco100.org/?fbclid=IwAR1Rfqlw9tzqm2ZQnV74eahjQaGurCvSJfx8m6NWgOm-zb9gYlHDg88RieE" rel="noopener nofollow" style="color: rgb(56\, 88\, 152)\; cursor: pointer\; text-decoration-line: none\; font-family: Helvetica\, Arial\, sans-serif\; font-size: 14px\;" target="_blank">www.weslaco100.org</a>
LOCATION:5th Street Fire Station 5th and Kansas
UID:e.1244.18822
SEQUENCE:3
DTSTAMP:20260420T012224Z
URL:https://business.weslaco.com/events/details/weslaco-100-people-and-pet-costume-parade-18822
END:VEVENT

END:VCALENDAR
