BEGIN:VCALENDAR
VERSION:2.0
PRODID:-//ChamberMaster//Event Calendar 2.0//EN
METHOD:PUBLISH
X-PUBLISHED-TTL:P3D
REFRESH-INTERVAL:P3D
CALSCALE:GREGORIAN
BEGIN:VEVENT
DTSTART:20190220T000000Z
DTEND:20190220T020000Z
X-MICROSOFT-CDO-ALLDAYEVENT:FALSE
SUMMARY:Weslaco 100 Purple Heart Reception
DESCRIPTION:The City of Weslaco will honor military veterans and their families at a Purple Heart Reception February 19\, 2019. Please email the following information:\n\nName of Military Member\n\nRank\n\nBranch of Service\n\nPurple Heart Recipient?\n\nGold Star Family?\n\nIf yes\,relation to military member\, Mother\, Father\, Daughter\,Son\, etc... Photo of U.S. Military Member bring with you to the reception. (Photos will be scanned and returned at the reception).
X-ALT-DESC;FMTTYPE=text/html:<span>The City of Weslaco will honor military veterans and their families at a Purple Heart Reception February 19\, 2019. Please email the following information:<br />\nName of Military Member<br />\nRank<br />\nBranch of Service<br />\nPurple Heart Recipient?<br />\nGold Star Family?<br />\nIf yes\,relation to military member\, Mother\, Father\, Daughter\,Son\, etc... Photo of U.S. Military Member bring with you to the reception. (Photos will be scanned and returned at the reception). </span>
LOCATION:Weslaco Museum 500 S. Texas Blvd. Weslaco
UID:e.1244.17101
SEQUENCE:3
DTSTAMP:20260420T162803Z
URL:https://business.weslaco.com/events/details/weslaco-100-purple-heart-reception-17101
END:VEVENT

END:VCALENDAR
