BEGIN:VCALENDAR
VERSION:2.0
PRODID:-//ChamberMaster//Event Calendar 2.0//EN
METHOD:PUBLISH
X-PUBLISHED-TTL:P3D
REFRESH-INTERVAL:P3D
CALSCALE:GREGORIAN
BEGIN:VEVENT
DTSTART:20191207T220000Z
DTEND:20191208T000000Z
X-MICROSOFT-CDO-ALLDAYEVENT:FALSE
SUMMARY:Weslaco 100 Style of the Decades Fashion Show
DESCRIPTION:Official Weslaco 100 Event - Styles of the Decades Fashion Show\n\nIDEA Public Schools Stage at Mayor Gene Braught Auditorium at Mayor Joe V. Sanchez Public Library of Weslaco\n \n\n\nTen models will showcase the hairstyles and fashion of the last 100 years in this style show provided by Danny Hernandez and Staff of Hair Trix\, with vintage clothes provided by Yvette Aviles of Backdoor Modern Vintage
X-ALT-DESC;FMTTYPE=text/html:<p style="margin: 0px 0px 6px\; font-family: Helvetica\, Arial\, sans-serif\; color: rgb(28\, 30\, 33)\; font-size: 14px\;">Official Weslaco 100 Event -&nbsp\;Styles of the Decades Fashion Show<br />\nIDEA Public Schools Stage at Mayor Gene Braught Auditorium at&nbsp\;<a class="profileLink" data-hovercard="/ajax/hovercard/page.php?id=184221438374943&amp\;extragetparams=%7B%22__tn__%22%3A%22%2CdK-R-R%22%2C%22eid%22%3A%22ARDxFRjQimeklFlpEjbznIxVTHEtmtDlUDb3mqFleeDgCtG_K3dSQ6rfcbUnsZGP7wicQ-n3r_AKyaYo%22%2C%22fref%22%3A%22mentions%22%7D" data-hovercard-prefer-more-content-show="1" href="https://www.facebook.com/WeslacoLibrary/?__tn__=K-R&amp\;eid=ARDxFRjQimeklFlpEjbznIxVTHEtmtDlUDb3mqFleeDgCtG_K3dSQ6rfcbUnsZGP7wicQ-n3r_AKyaYo&amp\;fref=mentions&amp\;__xts__%5B0%5D=68.ARDEBuAe87Iqf14d7OI5kvF5N-p2gH0zm2c0WODZpKR_zM4s39t7nduvRRJbKt2W6UkRj1Fr4QNfGjWhNDQeHDUN6tOJSAByy22gNjCHGJnq0y87t-QSy7XoolKPrPsVM3sI4lAiG-If5nvCT2dllY_m5zj1TC6M-dedbgbzitwIp2WdFAL90ZBljbQz7PBJ4pHi7HnCd1arLyqqcjcYu6PUxiPyjz1gfM39jhK6ZVYOMzivBa5SAGIV_KZcq5dyIvyeg0ID5O6hA803jcAy59ZeDcSHUqbWEAuE2HvDYzvRgUXhTKHNYanknuMrTHAjG1_xqgSdmVCRiafZcrxQSRHB8A" style="color: rgb(56\, 88\, 152)\; cursor: pointer\; text-decoration-line: none\; font-family: inherit\;">Mayor Joe V. Sanchez Public Library of Weslaco</a></p>\n&nbsp\;\n\n<div class="text_exposed_show" style="display: inline\; font-family: Helvetica\, Arial\, sans-serif\; color: rgb(28\, 30\, 33)\; font-size: 14px\;">\n<p style="margin: 0px 0px 6px\; font-family: inherit\;">Ten models will showcase the hairstyles and fashion of the last 100 years in this style show provided by Danny Hernandez and Staff of Hair Trix\, with vintage clothes provided by Yvette Aviles of&nbsp\;<a class="profileLink" data-hovercard="/ajax/hovercard/page.php?id=289523477924867&amp\;extragetparams=%7B%22__tn__%22%3A%22%2CdK-R-R%22%2C%22eid%22%3A%22ARBuNX-XsNXbRViRNvOs18KkBinkwv04EXTBU4_K1kMQ3L9A8XMi7XrR4Ud0xCUi2R0gbpPR3dfbedeK%22%2C%22fref%22%3A%22mentions%22%7D" data-hovercard-prefer-more-content-show="1" href="https://www.facebook.com/backdooratbugambilias/?__tn__=K-R&amp\;eid=ARBuNX-XsNXbRViRNvOs18KkBinkwv04EXTBU4_K1kMQ3L9A8XMi7XrR4Ud0xCUi2R0gbpPR3dfbedeK&amp\;fref=mentions&amp\;__xts__%5B0%5D=68.ARDEBuAe87Iqf14d7OI5kvF5N-p2gH0zm2c0WODZpKR_zM4s39t7nduvRRJbKt2W6UkRj1Fr4QNfGjWhNDQeHDUN6tOJSAByy22gNjCHGJnq0y87t-QSy7XoolKPrPsVM3sI4lAiG-If5nvCT2dllY_m5zj1TC6M-dedbgbzitwIp2WdFAL90ZBljbQz7PBJ4pHi7HnCd1arLyqqcjcYu6PUxiPyjz1gfM39jhK6ZVYOMzivBa5SAGIV_KZcq5dyIvyeg0ID5O6hA803jcAy59ZeDcSHUqbWEAuE2HvDYzvRgUXhTKHNYanknuMrTHAjG1_xqgSdmVCRiafZcrxQSRHB8A" style="color: rgb(56\, 88\, 152)\; cursor: pointer\; text-decoration-line: none\; font-family: inherit\;">Backdoor Modern Vintage</a></p>\n</div>\n
LOCATION:Mayor Gene Braught Auditorium at Mayor Joe V. Sanchez Public Library 525 S. Kansas Weslaco\, TX
UID:e.1244.18824
SEQUENCE:3
DTSTAMP:20260419T234620Z
URL:https://business.weslaco.com/events/details/weslaco-100-style-of-the-decades-fashion-show-18824
END:VEVENT

END:VCALENDAR
