BEGIN:VCALENDAR
VERSION:2.0
PRODID:-//ChamberMaster//Event Calendar 2.0//EN
METHOD:PUBLISH
X-PUBLISHED-TTL:P3D
REFRESH-INTERVAL:P3D
CALSCALE:GREGORIAN
BEGIN:VEVENT
DTSTART:20180419T230000Z
DTEND:20180420T010000Z
X-MICROSOFT-CDO-ALLDAYEVENT:FALSE
SUMMARY:Weslaco 100 WIne & Cheese Party
DESCRIPTION:Learn more about Weslaco's 100th Anniversary Celebration!\n\nReceive a FREE commemorative wine glass with a donation of $25 or more per person.
X-ALT-DESC;FMTTYPE=text/html:<span class="_4n-j _3cht fsl" data-testid="event-permalink-details">Learn more about Weslaco&#39\;s 100th Anniversary Celebration!<br />\nReceive a FREE commemorative wine glass with a donation of $25 or more per person.</span>
LOCATION:Weslaco Museum 500 S. Texas Blvd.
UID:e.1244.15863
SEQUENCE:3
DTSTAMP:20260421T093426Z
URL:https://business.weslaco.com/events/details/weslaco-100-wine-cheese-party-15863
END:VEVENT

END:VCALENDAR
