BEGIN:VCALENDAR
VERSION:2.0
PRODID:-//ChamberMaster//Event Calendar 2.0//EN
METHOD:PUBLISH
X-PUBLISHED-TTL:P3D
REFRESH-INTERVAL:P3D
CALSCALE:GREGORIAN
BEGIN:VEVENT
DTSTART:20140726T130000Z
DTEND:20140726T170000Z
X-MICROSOFT-CDO-ALLDAYEVENT:FALSE
SUMMARY:Weslaco 5K 2014
DESCRIPTION:Annual Weslaco 5K Run. Will also include a one-mile run for children.
X-ALT-DESC;FMTTYPE=text/html:Annual Weslaco 5K Run. Will also include a one-mile run for children.
LOCATION:South Texas Vo-Tech Weslaco\, TX 78596
UID:e.1244.5886
SEQUENCE:3
DTSTAMP:20260424T103303Z
URL:https://business.weslaco.com/events/details/weslaco-5k-2014-07-26-2014-5886
END:VEVENT

END:VCALENDAR
