BEGIN:VCALENDAR
VERSION:2.0
PRODID:-//ChamberMaster//Event Calendar 2.0//EN
METHOD:PUBLISH
X-PUBLISHED-TTL:P3D
REFRESH-INTERVAL:P3D
CALSCALE:GREGORIAN
BEGIN:VEVENT
DTSTART:20170520T120000Z
DTEND:20170520T170000Z
X-MICROSOFT-CDO-ALLDAYEVENT:FALSE
SUMMARY:Weslaco Be-Fast 5K for Stroke Support Awareness
DESCRIPTION:Strokes are a leading cause of adult long-term disability and the fifth leading cause of death in the United States. More than 58% of Americans don't know if they are at risk for stroke and one in three Americans really don't even know what to look for as a warning sign or symptom of a stroke. Join the Be-Fast 5K to help raise stroke awareness and prevention.\n\nBE-FAST 5K will feature a competitive and noncompetitive registration package.\n\n-The competitive registration will include: Registration\, Timing Shoe Tag\,  Performance Dry Fit T-Shirt and customized participation  medal.\n\n-The noncompetitive registration will include: Registration\,  Performance Dry Fit T-Shirt and customized participation  medal\n\n-There is also an option to purchase a BE STROKE AWARE Performance Dry Fit T-Shirt only\, for those who are interested in attending but not participating in the run.\n\n-Children 12 and under are free (Please note  children must be registered participants to receive a shirt and participation medal)\n\nPacket Pickup:\n\nDate: Friday May 19\, 2017\n\nTime: 4pm -7pm\n\nLocation: Weslaco Regional Rehabilitation Hospital 906 S. James St.\, Weslaco\, TX 78596\n\nREGISTER NOW! Shirt order deadline is MAY 5th! Trophies will be awarded to the top three in each racing division!
X-ALT-DESC;FMTTYPE=text/html:<p><span class="_4n-j _3cht fsl" data-testid="event-permalink-details">Strokes are a leading cause of adult long-term disability and the fifth leading cause of death in the United States. More than 58% of Americans don&rsquo\;t know if they are at risk for stroke and one in three Americans really don&rsquo\;t even know what to look for as a warning sign or symptom of a stroke.</span> Join the Be-Fast 5K to help raise stroke awareness and prevention.</p>\n\n<p>BE-FAST 5K will feature a competitive and noncompetitive registration package.<br />\n-The competitive registration will include: Registration\, Timing Shoe Tag\,&nbsp\; Performance Dry Fit T-Shirt and customized participation&nbsp\; medal.<br />\n-The noncompetitive registration will include: Registration\,&nbsp\; Performance Dry Fit T-Shirt and customized participation&nbsp\; medal<br />\n-There is also an option to purchase a BE STROKE AWARE Performance Dry Fit T-Shirt only\, for those who are interested in attending but not participating in the run.<br />\n-Children 12 and under are free (Please note&nbsp\; children must be registered participants to receive a shirt and participation medal)</p>\n\n<p>Packet Pickup:<br />\nDate: Friday May 19\, 2017<br />\nTime: 4pm -7pm<br />\nLocation: Weslaco Regional Rehabilitation Hospital 906 S. James St.\, Weslaco\, TX 78596</p>\n\n<p>REGISTER NOW! Shirt order deadline is MAY 5th! Trophies will be awarded to the top three in each racing division!</p>\n
LOCATION:Knapp Medical Center southwest parking lot
UID:e.1244.11957
SEQUENCE:3
DTSTAMP:20260422T032708Z
URL:https://business.weslaco.com/events/details/weslaco-be-fast-5k-for-stroke-support-awareness-11957
END:VEVENT

END:VCALENDAR
