BEGIN:VCALENDAR
VERSION:2.0
PRODID:-//ChamberMaster//Event Calendar 2.0//EN
METHOD:PUBLISH
X-PUBLISHED-TTL:P3D
REFRESH-INTERVAL:P3D
CALSCALE:GREGORIAN
BEGIN:VEVENT
DTSTART:20190518T123000Z
DTEND:20190518T170000Z
X-MICROSOFT-CDO-ALLDAYEVENT:FALSE
SUMMARY:Weslaco Be-Fast 5K for Stroke Support Awareness
DESCRIPTION:BE-FAST 5K will feature a competitive and noncompetitive registration package.\n\n-The competitive registration will include: Registration\, Timing Shoe Tag\, Performance Dry Fit T-Shirt and customized participation medal.\n\n-The noncompetitive registration will include: Registration\, Performance Dry Fit T-Shirt and customized participation medal -There is also an option to purchase a BE STROKE AWARE Performance Dry Fit T-Shirt only\, for those who are interested in attending but not participating in the run.\n\n-Children 12 and under are free (Please note children must be registered participants to receive a shirt and participation medal)\n\n\n\nPacket Pickup:\n\nDate: Friday\, May 17\, 2019\n\nTime: 4pm -7pm\n\nLocation: Weslaco Regional Rehabilitation Hospital 906 S. James St.\, Weslaco\, TX 78596\n\n\n\nREGISTER NOW! Shirt order deadline is May 5th! Trophies will be awarded to the top three in each racing division! CLICK HERE TO REGISTER\n\n\n\nYou can also register in person at: Weslaco Regional Rehabilitation Hospital\, 906 S. James\, St.\, Weslaco TX (Cash/Check ONLY).
X-ALT-DESC;FMTTYPE=text/html:<span class="_4n-j _3cht fsl" data-testid="event-permalink-details">BE-FAST 5K will feature a competitive and noncompetitive registration package.<br />\n-The competitive registration will include: Registration\, Timing Shoe Tag\, Performance Dry Fit T-Shirt and customized participation medal.<br />\n-The noncompetitive registration will include: Registration\, Performance Dry Fit T-Shirt and customized participation medal -There is also an option to purchase a BE STROKE AWARE Performance Dry Fit T-Shirt only\, for those who are interested in attending but not participating in the run.<br />\n-Children 12 and under are free (Please note children must be registered participants to receive a shirt and participation medal)<br />\n<br />\nPacket Pickup:<br />\nDate: Friday\, May 17\, 2019<br />\nTime: 4pm -7pm<br />\nLocation: Weslaco Regional Rehabilitation Hospital 906 S. James St.\, Weslaco\, TX 78596<br />\n<br />\nREGISTER NOW! Shirt order deadline is May 5th! Trophies will be awarded to the top three in each racing division! <a href="https://endurancesplits.webconnex.com/WeslacoBe-FastBeStrokeAware2019?fbclid=IwAR2KwC4wqq-HBWqXVKS0_y16ugxARNy23GQGkXGfXsb_tCMpIcaiBmTKvXM">CLICK HERE TO REGISTER</a><br />\n<br />\nYou can also register in person at: Weslaco Regional Rehabilitation Hospital\, 906 S. James\, St.\, Weslaco TX (Cash/Check ONLY).</span>
LOCATION:Knapp Medical Center southwest parking lot
UID:e.1244.18141
SEQUENCE:3
DTSTAMP:20260420T131435Z
URL:https://business.weslaco.com/events/details/weslaco-be-fast-5k-for-stroke-support-awareness-18141
END:VEVENT

END:VCALENDAR
