BEGIN:VCALENDAR
VERSION:2.0
PRODID:-//ChamberMaster//Event Calendar 2.0//EN
METHOD:PUBLISH
X-PUBLISHED-TTL:P3D
REFRESH-INTERVAL:P3D
CALSCALE:GREGORIAN
BEGIN:VEVENT
DTSTART:20190906T140000Z
DTEND:20190906T180000Z
X-MICROSOFT-CDO-ALLDAYEVENT:FALSE
SUMMARY:Weslaco Business Expo & Job Fair
DESCRIPTION:The Weslaco Chamber of Commerce\, in partnership with the City of Weslaco\, The Weslaco Economic Development Corporation and Workforce Solutions\, will host a Business Expo & Job Fair on Friday\, September 6\, 2019 from 9 am to 1 pm at the Business Visitor & Event Center in Weslaco. Interested businesses that are currently hiring can contact the Weslaco Area Chamber of Commerce at 956-968-2102 by Friday\, August 30. This event is in partnership with Workforce Solutions with the shared goal to #employWeslaco. Participation is FREE for businesses\, thanks to our generous sponsors: the City of Weslaco\, and the Weslaco Economic Development Corporation. Attendees can enjoy door prizes\, a resume printing station and onsite interviews. \n\n\n\nFor more information\, contact the Weslaco Chamber at 956-968-2102
X-ALT-DESC;FMTTYPE=text/html:<span style="color: rgb(29\, 33\, 41)\; font-family: Helvetica\, Arial\, sans-serif\; font-size: 14px\; white-space: pre-wrap\;">The Weslaco Chamber of Commerce\, in partnership with the City of Weslaco\, The Weslaco Economic Development Corporation and Workforce Solutions\, will host a Business Expo &amp\; Job Fair on Friday\, September 6\, 2019 from 9 am to 1 pm at the Business Visitor &amp\; Event Center in Weslaco. Interested businesses that are currently hiring can contact the Weslaco Area Chamber of Commerce at 956-968-2102 by Friday\, August 30. This event is in partnership with Workforce Solutions with the shared goal to </span><a href="https://www.facebook.com/hashtag/employweslaco" style="color: rgb(56\, 88\, 152)\; cursor: pointer\; text-decoration-line: none\; font-family: Helvetica\, Arial\, sans-serif\; font-size: 14px\; white-space: pre-wrap\;" target="_blank">#employWeslaco</a><span style="color: rgb(29\, 33\, 41)\; font-family: Helvetica\, Arial\, sans-serif\; font-size: 14px\; white-space: pre-wrap\;">. Participation is FREE for businesses\, thanks to our generous sponsors: the City of Weslaco\, and the Weslaco Economic Development Corporation. Attendees can enjoy door prizes\, a resume printing station and onsite interviews. </span><br style="color: rgb(29\, 33\, 41)\; font-family: Helvetica\, Arial\, sans-serif\; font-size: 14px\; white-space: pre-wrap\;" />\n<br style="color: rgb(29\, 33\, 41)\; font-family: Helvetica\, Arial\, sans-serif\; font-size: 14px\; white-space: pre-wrap\;" />\n<span style="color: rgb(29\, 33\, 41)\; font-family: Helvetica\, Arial\, sans-serif\; font-size: 14px\; white-space: pre-wrap\;">For more information\, contact the Weslaco Chamber at 956-968-2102</span>
LOCATION:Business Visitor & Event Center 275 S. Kansas Weslaco\, TX
UID:e.1244.18738
SEQUENCE:3
DTSTAMP:20260420T062757Z
URL:https://business.weslaco.com/events/details/weslaco-business-expo-job-fair-18738
END:VEVENT

END:VCALENDAR
