BEGIN:VCALENDAR
VERSION:2.0
PRODID:-//ChamberMaster//Event Calendar 2.0//EN
METHOD:PUBLISH
X-PUBLISHED-TTL:P3D
REFRESH-INTERVAL:P3D
CALSCALE:GREGORIAN
BEGIN:VEVENT
DTSTART:20140913T233000Z
DTEND:20140914T040000Z
X-MICROSOFT-CDO-ALLDAYEVENT:FALSE
SUMMARY:Weslaco Chamber 6th Annual Gala 2014
DESCRIPTION:The Weslaco Chamber of Commerce 6th Annual Gala and Auction presents a Las Vegas Casino Night\, featuring a fun-filled evening of casino games\, live and silent auctions\, and dinner.  Proceeds go towards the Weslaco Chamber of Commerce\, a private\, non-profit organization that works for the development and voice of business success in Weslaco.
X-ALT-DESC;FMTTYPE=text/html:The Weslaco Chamber of Commerce 6th Annual Gala and Auction presents a Las Vegas Casino Night\, featuring a fun-filled evening of casino games\, live and silent auctions\, and dinner. &nbsp\;Proceeds go towards the Weslaco Chamber of Commerce\, a private\, non-profit organization that works for the development and voice of business success in Weslaco.
LOCATION:Knapp Medical Conference Center 1401 E. 8th St. Weslaco\, TX
UID:e.1244.5929
SEQUENCE:3
DTSTAMP:20260424T070324Z
URL:https://business.weslaco.com/events/details/weslaco-chamber-6th-annual-gala-2014-09-13-2014-5929
END:VEVENT

END:VCALENDAR
