BEGIN:VCALENDAR
VERSION:2.0
PRODID:-//ChamberMaster//Event Calendar 2.0//EN
METHOD:PUBLISH
X-PUBLISHED-TTL:P3D
REFRESH-INTERVAL:P3D
CALSCALE:GREGORIAN
BEGIN:VEVENT
DTSTART:20160910T233000Z
DTEND:20160911T040000Z
X-MICROSOFT-CDO-ALLDAYEVENT:FALSE
SUMMARY:Weslaco Chamber 8th Annual Gala and Casino Night 2016
DESCRIPTION:The Weslaco Chamber of Commerce presents their annual Casino Night\, featuring a fun-filled evening of casino games\, live and silent auctions\, and dinner.  Proceeds go towards the Weslaco Chamber of Commerce\, a private\, non-profit organization that works for the development and voice of business success in Weslaco.
X-ALT-DESC;FMTTYPE=text/html:The Weslaco Chamber of Commerce presents their annual Casino Night\, featuring a fun-filled evening of casino games\, live and silent auctions\, and dinner. &nbsp\;Proceeds go towards the Weslaco Chamber of Commerce\, a private\, non-profit organization that works for the development and voice of business success in Weslaco.
LOCATION:Knapp Medical Conference Center 1401 E. 8th St. Weslaco\, TX
UID:e.1244.10981
SEQUENCE:3
DTSTAMP:20260422T184822Z
URL:https://business.weslaco.com/events/details/weslaco-chamber-8th-annual-gala-and-casino-night-2016-09-10-2016-10981
END:VEVENT

END:VCALENDAR
