BEGIN:VCALENDAR
VERSION:2.0
PRODID:-//ChamberMaster//Event Calendar 2.0//EN
METHOD:PUBLISH
X-PUBLISHED-TTL:P3D
REFRESH-INTERVAL:P3D
CALSCALE:GREGORIAN
BEGIN:VEVENT
DTSTART:20190815T223000Z
DTEND:20190815T233000Z
X-MICROSOFT-CDO-ALLDAYEVENT:FALSE
SUMMARY:Weslaco Chamber Ambassador Roundup
DESCRIPTION:Interested in becoming an active member of the Weslaco Area Chamber of Commerce?  Stop by the Visitor Center for an after hours mixer and info session. Meet some of our Red Coat ambassadors and learn how you can become more involved in the business community. \n\nRefreshments will be served...join us!
X-ALT-DESC;FMTTYPE=text/html:Interested in becoming an active member of the Weslaco Area Chamber of Commerce?&nbsp\; Stop by the Visitor Center for an after hours mixer and info session. Meet some of our Red Coat ambassadors and learn how you can become more involved in the business community.&nbsp\;<br />\nRefreshments will be served...join us!
LOCATION:Business Visitor & Event Center 275 S. Kansas\, Weslaco
UID:e.1244.18723
SEQUENCE:3
DTSTAMP:20260420T062403Z
URL:https://business.weslaco.com/events/details/weslaco-chamber-ambassador-roundup-18723
END:VEVENT

END:VCALENDAR
