BEGIN:VCALENDAR
VERSION:2.0
PRODID:-//ChamberMaster//Event Calendar 2.0//EN
METHOD:PUBLISH
X-PUBLISHED-TTL:P3D
REFRESH-INTERVAL:P3D
CALSCALE:GREGORIAN
BEGIN:VEVENT
DTSTART:20151202T170000Z
DTEND:20151202T190000Z
X-MICROSOFT-CDO-ALLDAYEVENT:FALSE
SUMMARY:Weslaco Chamber Annual Awards Luncheon 2015
DESCRIPTION:Annual Chamber Luncheon and Awards Ceremony. The Chamber Board will be presented as well as the Man\, Woman\, Citizen\, Volunteer and Business of the Year.
X-ALT-DESC;FMTTYPE=text/html:Annual Chamber Luncheon and Awards Ceremony. The Chamber Board will be presented as well as the Man\, Woman\, Citizen\, Volunteer and Business of the Year.
LOCATION:Weslaco Business Visitor and Event Center 275 S. Kansas Weslaco\, TX 78596
UID:e.1244.9053
SEQUENCE:3
DTSTAMP:20260423T084419Z
URL:https://business.weslaco.com/events/details/weslaco-chamber-annual-awards-luncheon-2015-12-02-2015-9053
END:VEVENT

END:VCALENDAR
