BEGIN:VCALENDAR
VERSION:2.0
PRODID:-//ChamberMaster//Event Calendar 2.0//EN
METHOD:PUBLISH
X-PUBLISHED-TTL:P3D
REFRESH-INTERVAL:P3D
CALSCALE:GREGORIAN
BEGIN:VEVENT
DTSTART:20211214T230000Z
DTEND:20211215T000000Z
X-MICROSOFT-CDO-ALLDAYEVENT:FALSE
SUMMARY:Weslaco Chamber Board Meeting-December
DESCRIPTION:
X-ALT-DESC;FMTTYPE=text/html:
LOCATION:
UID:e.1244.19758
SEQUENCE:3
DTSTAMP:20260421T235032Z
URL:https://business.weslaco.com/events/details/weslaco-chamber-board-meeting-december-19758
END:VEVENT

END:VCALENDAR
