BEGIN:VCALENDAR
VERSION:2.0
PRODID:-//ChamberMaster//Event Calendar 2.0//EN
METHOD:PUBLISH
X-PUBLISHED-TTL:P3D
REFRESH-INTERVAL:P3D
CALSCALE:GREGORIAN
BEGIN:VEVENT
DTSTART:20190921T233000Z
DTEND:20190922T033000Z
X-MICROSOFT-CDO-ALLDAYEVENT:FALSE
SUMMARY:Weslaco Chamber Casino Night 2019
DESCRIPTION:The Weslaco Chamber of Commerce presents their annual Casino Night\, featuring a fun-filled evening of casino games\, live and silent auctions\, and dinner.  Proceeds from this event will support nCourage\, a high school job shadow program sponsored by the Weslaco Chamber and Weslaco ISD.
X-ALT-DESC;FMTTYPE=text/html:The Weslaco Chamber of Commerce presents their annual Casino Night\, featuring a fun-filled evening of casino games\, live and silent auctions\, and dinner. &nbsp\;Proceeds from this event will support nCourage\, a high school job shadow program sponsored by the Weslaco Chamber and Weslaco ISD.&nbsp\;
LOCATION:Knapp Conference Center 1401 E. 8th St. Weslaco\, TX
UID:e.1244.18715
SEQUENCE:3
DTSTAMP:20260420T062540Z
URL:https://business.weslaco.com/events/details/weslaco-chamber-casino-night-2019-18715
END:VEVENT

END:VCALENDAR
