BEGIN:VCALENDAR
VERSION:2.0
PRODID:-//ChamberMaster//Event Calendar 2.0//EN
METHOD:PUBLISH
X-PUBLISHED-TTL:P3D
REFRESH-INTERVAL:P3D
CALSCALE:GREGORIAN
BEGIN:VEVENT
DTSTART:20160520T163000Z
DTEND:20160520T180000Z
X-MICROSOFT-CDO-ALLDAYEVENT:FALSE
SUMMARY:Weslaco Chamber Lunch and Learn - Digital Advertising
DESCRIPTION:Join us for an informative Lunch and Learn seminar on Digital Advertising Friday\, May 20 at 11:30 am\, presented by Chris Von Wald\, Director of Digital Sales for AIM Media of Texas. Chris will discuss a variety of digital advertising options that include web and social media advertising\, as well as geofencing\, the latest in mobile device advertising.  In addition\, Chris will talk about the latest developments in each category\, and how a business can maximize its return on investment.
X-ALT-DESC;FMTTYPE=text/html:Join us for an informative Lunch and Learn seminar on Digital Advertising Friday\, May 20 at 11:30 am\, presented by Chris Von Wald\, Director of Digital Sales for AIM Media of Texas. Chris will discuss a variety of digital advertising options that include web and social media advertising\, as well as geofencing\, the latest in mobile device advertising.&nbsp\; In addition\, Chris will talk about the latest developments in each category\, and how a business can maximize its return on investment. &nbsp\;
LOCATION:Business Visitor and Event Center 275 S. Kansas Weslaco\, TX
UID:e.1244.10957
SEQUENCE:3
DTSTAMP:20260422T232402Z
URL:https://business.weslaco.com/events/details/weslaco-chamber-lunch-and-learn-digital-advertising-05-20-2016-10957
END:VEVENT

END:VCALENDAR
