BEGIN:VCALENDAR
VERSION:2.0
PRODID:-//ChamberMaster//Event Calendar 2.0//EN
METHOD:PUBLISH
X-PUBLISHED-TTL:P3D
REFRESH-INTERVAL:P3D
CALSCALE:GREGORIAN
BEGIN:VEVENT
DTSTART:20180510T170000Z
DTEND:20180510T180000Z
X-MICROSOFT-CDO-ALLDAYEVENT:FALSE
SUMMARY:Weslaco Chamber Lunch and Learn presented by South Texas Health System
DESCRIPTION:
X-ALT-DESC;FMTTYPE=text/html:
LOCATION:Weslaco Business Visitor & Event Center 275 S. Kansas
UID:e.1244.16873
SEQUENCE:3
DTSTAMP:20260421T075421Z
URL:https://business.weslaco.com/events/details/weslaco-chamber-lunch-and-learn-presented-by-south-texas-health-system-16873
END:VEVENT

END:VCALENDAR
