BEGIN:VCALENDAR
VERSION:2.0
PRODID:-//ChamberMaster//Event Calendar 2.0//EN
METHOD:PUBLISH
X-PUBLISHED-TTL:P3D
REFRESH-INTERVAL:P3D
CALSCALE:GREGORIAN
BEGIN:VEVENT
DTSTART:20180117T173000Z
DTEND:20180117T190000Z
X-MICROSOFT-CDO-ALLDAYEVENT:FALSE
SUMMARY:Weslaco Chamber Lunch and Learn Seminar
DESCRIPTION:Imagine having:\n\n  A GREAT career\, or business\, or other professional endeavor.\n\n  GREAT relationships with your spouse\, your family\, and your friends.\n\n  A life completely filled with true happiness\, satisfaction\, and fulfillment.\n\nYou CAN achieve greatness when you are equipped with the right knowledge.\n\n\nWeslaco Chamber Members - $10\, Non-members - $20\n\nLunch will be provided. Call 968-2102 to RSVP.
X-ALT-DESC;FMTTYPE=text/html:<p>Imagine having:<br />\n&bull\; A GREAT career\, or business\, or other professional endeavor.<br />\n&bull\; GREAT relationships with your spouse\, your family\, and your friends.<br />\n<span class="text_exposed_show">&bull\; A life completely filled with true happiness\, satisfaction\, and fulfillment.<br />\nYou CAN achieve greatness when you are equipped with the right knowledge.</span></p>\n\n<div class="text_exposed_show">\n<p>Weslaco Chamber Members - $10\, Non-members - $20</p>\n\n<p>Lunch will be provided. Call 968-2102 to RSVP.</p>\n</div>\n
LOCATION:Business Visitor & Event Center 275 S. Kansas\, Weslaco
UID:e.1244.14471
SEQUENCE:3
DTSTAMP:20260421T155710Z
URL:https://business.weslaco.com/events/details/weslaco-chamber-lunch-and-learn-seminar-14471
END:VEVENT

END:VCALENDAR
