BEGIN:VCALENDAR
VERSION:2.0
PRODID:-//ChamberMaster//Event Calendar 2.0//EN
METHOD:PUBLISH
X-PUBLISHED-TTL:P3D
REFRESH-INTERVAL:P3D
CALSCALE:GREGORIAN
BEGIN:VEVENT
DTSTART:20180404T163000Z
DTEND:20180404T180000Z
X-MICROSOFT-CDO-ALLDAYEVENT:FALSE
SUMMARY:Weslaco Chamber Lunch and Learn Seminar presented by Guerra Insurance and Financial Services
DESCRIPTION:Join us for our next Lunch and Learn Seminar Wednesday\, April 4 at the Business Visitor and Event Center. Sponsor and presenter Myriam Guerra- Allstate Insurance will be giving an overview on Unit Investment Trusts. Come learn about this investment option while we have lunch and network. This event is FREE for members\, $10 for non-members. Call 968-2102 to RSVP.
X-ALT-DESC;FMTTYPE=text/html:<div class="text_exposed_show">\n<p>Join us for our next Lunch and Learn Seminar Wednesday\, April 4 at the Business Visitor and Event Center. Sponsor and presenter Myriam Guerra- Allstate Insurance will be giving an overview on Unit Investment Trusts. Come learn about this investment option while we have lunch and network. This event is FREE for members\, $10 for non-members. Call 968-2102 to RSVP.</p>\n</div>\n
LOCATION:Business Visitor & Event Center 275 S. Kansas\, Weslaco
UID:e.1244.15852
SEQUENCE:3
DTSTAMP:20260421T094427Z
URL:https://business.weslaco.com/events/details/weslaco-chamber-lunch-and-learn-seminar-presented-by-guerra-insurance-and-financial-services-15852
END:VEVENT

END:VCALENDAR
