BEGIN:VCALENDAR
VERSION:2.0
PRODID:-//ChamberMaster//Event Calendar 2.0//EN
METHOD:PUBLISH
X-PUBLISHED-TTL:P3D
REFRESH-INTERVAL:P3D
CALSCALE:GREGORIAN
BEGIN:VEVENT
DTSTART:20180220T180000Z
DTEND:20180220T190000Z
X-MICROSOFT-CDO-ALLDAYEVENT:FALSE
SUMMARY:Weslaco Chamber Lunch and Learn Seminar presented by Valley Care Clinics
DESCRIPTION:In honor of American Heart Month\, the Weslaco Chamber of Commerce will host a Lunch and Learn Seminar on Tuesday\, February 20\, from 12 pm to 1 pm\, at the Business Visitor Center in Weslaco.  Sponsored by South Texas Health System\, the seminar on heart health will be presented by cardiologist Dr. Federico Azpurua\, who also specializes in peripheral vascular disease and endovascular intervention\, structural heart disease\, echocardiography and nuclear cardiology.
X-ALT-DESC;FMTTYPE=text/html:<div class="text_exposed_show">\n<p><span style="font-size:12.0pt\;">In honor of American Heart Month\, the Weslaco Chamber of Commerce will host a Lunch and Learn Seminar on Tuesday\, February 20\, from 12 pm to 1 pm\, at the Business Visitor Center in Weslaco.&nbsp\; <span style="color:black\;">Sponsored by South Texas Health System\, the seminar on heart health will be presented by cardiologist Dr. Federico Azpurua\, who also specializes in peripheral vascular disease and endovascular intervention\, structural heart disease\, echocardiography and nuclear cardiology. </span></span></p>\n</div>\n
LOCATION:Business Visitor & Event Center 275 S. Kansas\, Weslaco
UID:e.1244.15748
SEQUENCE:3
DTSTAMP:20260421T142726Z
URL:https://business.weslaco.com/events/details/weslaco-chamber-lunch-and-learn-seminar-presented-by-valley-care-clinics-15748
END:VEVENT

END:VCALENDAR
