BEGIN:VCALENDAR
VERSION:2.0
PRODID:-//ChamberMaster//Event Calendar 2.0//EN
METHOD:PUBLISH
X-PUBLISHED-TTL:P3D
REFRESH-INTERVAL:P3D
CALSCALE:GREGORIAN
BEGIN:VEVENT
DTSTART:20191016T123000Z
DTEND:20191016T140000Z
X-MICROSOFT-CDO-ALLDAYEVENT:FALSE
SUMMARY:Weslaco Chamber Member Breakfast with the Mayor
DESCRIPTION:Celebrating Texas Chamber of Commerce Week! Chamber members\, join us for breakfast with Mayor David Suarez.
X-ALT-DESC;FMTTYPE=text/html:Celebrating Texas Chamber of Commerce Week! Chamber members\, join us for breakfast with Mayor David Suarez.&nbsp\;
LOCATION:Weslaco Business Visitor & Event Center 275 S. Texas Blvd.
UID:e.1244.18785
SEQUENCE:3
DTSTAMP:20260420T030406Z
URL:https://business.weslaco.com/events/details/weslaco-chamber-member-breakfast-with-the-mayor-18785
END:VEVENT

END:VCALENDAR
