BEGIN:VCALENDAR
VERSION:2.0
PRODID:-//ChamberMaster//Event Calendar 2.0//EN
METHOD:PUBLISH
X-PUBLISHED-TTL:P3D
REFRESH-INTERVAL:P3D
CALSCALE:GREGORIAN
BEGIN:VEVENT
DTSTART:20151209T133000Z
DTEND:20151209T150000Z
X-MICROSOFT-CDO-ALLDAYEVENT:FALSE
SUMMARY:Weslaco Chamber Morning Meet Up
DESCRIPTION:Enjoy breakfast\, networking and special guest speakers Weslaco Police Chief Stephen Mayer and Fire Department Chief Antonio Lopez.
X-ALT-DESC;FMTTYPE=text/html:Enjoy breakfast\, networking and special guest speakers Weslaco Police Chief Stephen Mayer and Fire Department Chief Antonio Lopez.
LOCATION:Keno Cafe 253 S. Texas
UID:e.1244.9057
SEQUENCE:3
DTSTAMP:20260423T070103Z
URL:https://business.weslaco.com/events/details/weslaco-chamber-morning-meet-up-12-09-2015-9057
END:VEVENT

END:VCALENDAR
