BEGIN:VCALENDAR
VERSION:2.0
PRODID:-//ChamberMaster//Event Calendar 2.0//EN
METHOD:PUBLISH
X-PUBLISHED-TTL:P3D
REFRESH-INTERVAL:P3D
CALSCALE:GREGORIAN
BEGIN:VEVENT
DTSTART:20200713T143000Z
DTEND:20200713T160000Z
X-MICROSOFT-CDO-ALLDAYEVENT:FALSE
SUMMARY:Weslaco Chamber Virtual Social Media Boot Camp
DESCRIPTION:The Weslaco Area Chamber of Commerce will host a three-part social media series for small business. This event is FREE for members\, $20 for non-members. (must register for all three sessions) \n\n\n\nJuly 13 - Best Practices When It Comes to Social Media and My Small Business\n\nJuly 20 - Creating and Updating Your Facebook Business Page - this will be a one-on-one conversation with individual businesses for guidance\, tips on their Facebook pages and to answer any questions.\n\nJuly 27 - Marketing Tactics for Small Businesses\n\nParticipants will receive a certificate of completion at the end of the third session!
X-ALT-DESC;FMTTYPE=text/html:<p><span style="font-size:14px\;"><span style="font-family:arial\;">The Weslaco Area Chamber of Commerce will host a three-part social media series for small business. This event is FREE for members\, $20 for non-members. (must register for all three sessions)&nbsp\;<br />\n<br />\nJuly 13 - Best Practices When It Comes to Social Media and My Small Business<br />\nJuly 20 - Creating and Updating Your Facebook Business Page - this will be a one-on-one conversation with individual businesses for guidance\, tips on their Facebook pages and to answer any questions.<br />\nJuly 27 - Marketing Tactics for Small Businesses</span></span></p>\n\n<p><span style="font-size:14px\;"><span style="font-family:arial\;">Participants will receive a certificate of completion at the end of the third session!</span></span></p>\n
LOCATION:Zoom
UID:e.1244.19481
SEQUENCE:3
DTSTAMP:20260419T125112Z
URL:https://business.weslaco.com/events/details/weslaco-chamber-virtual-social-media-boot-camp-19481
END:VEVENT

END:VCALENDAR
