BEGIN:VCALENDAR
VERSION:2.0
PRODID:-//ChamberMaster//Event Calendar 2.0//EN
METHOD:PUBLISH
X-PUBLISHED-TTL:P3D
REFRESH-INTERVAL:P3D
CALSCALE:GREGORIAN
BEGIN:VEVENT
DTSTART:20161120T150000Z
DTEND:20161120T190000Z
X-MICROSOFT-CDO-ALLDAYEVENT:FALSE
SUMMARY:Weslaco Community Blood Drive
DESCRIPTION:South Texas Blood and Tissue Center\, along with First United Methodist Church will host a community blood drive!
X-ALT-DESC;FMTTYPE=text/html:South Texas Blood and Tissue Center\, along with First United Methodist Church will host a community blood drive!
LOCATION:520 S. Illinois Ave.
UID:e.1244.11411
SEQUENCE:3
DTSTAMP:20260422T134028Z
URL:https://business.weslaco.com/events/details/weslaco-community-blood-drive-11411
END:VEVENT

END:VCALENDAR
