BEGIN:VCALENDAR
VERSION:2.0
PRODID:-//ChamberMaster//Event Calendar 2.0//EN
METHOD:PUBLISH
X-PUBLISHED-TTL:P3D
REFRESH-INTERVAL:P3D
CALSCALE:GREGORIAN
BEGIN:VEVENT
DTSTART:20171105T150000Z
DTEND:20171105T190000Z
X-MICROSOFT-CDO-ALLDAYEVENT:FALSE
SUMMARY:Weslaco Community Blood Drive
DESCRIPTION:South Texas Blood and Tissue Center\, along with First Baptist Church will host a community blood drive! Sponsored by First Baptist Church Weslaco\, Weslaco First United Methodist Church and First Presbyterian Church in Weslaco.\n\nPresenting donors receive a t-shirt!
X-ALT-DESC;FMTTYPE=text/html:South Texas Blood and Tissue Center\, along with First Baptist Church will host a community blood drive! Sponsored by First Baptist Church Weslaco\, Weslaco First United Methodist Church and First Presbyterian Church in Weslaco.<br />\nPresenting donors receive a t-shirt!
LOCATION:First Baptist Church Weslaco 600 S. Kansas Family Life Center Gym
UID:e.1244.14427
SEQUENCE:3
DTSTAMP:20260421T173223Z
URL:https://business.weslaco.com/events/details/weslaco-community-blood-drive-14427
END:VEVENT

END:VCALENDAR
