BEGIN:VCALENDAR
VERSION:2.0
PRODID:-//ChamberMaster//Event Calendar 2.0//EN
METHOD:PUBLISH
X-PUBLISHED-TTL:P3D
REFRESH-INTERVAL:P3D
CALSCALE:GREGORIAN
BEGIN:VEVENT
DTSTART:20181116T010000Z
DTEND:20181116T030000Z
X-MICROSOFT-CDO-ALLDAYEVENT:FALSE
SUMMARY:Weslaco East presents The Wizard of Oz
DESCRIPTION:Theatre at The Tower is committed to partnering with the arts community throughout the Rio Grande Valley.\n\nWe are proud to host Weslaco East High School Theatre Company's production of The Wizard of OZ.
X-ALT-DESC;FMTTYPE=text/html:<span>Theatre at The Tower is committed to partnering with the arts community throughout the Rio Grande Valley.<br />\nWe are proud to host Weslaco East High School Theatre Company&#39\;s production of The Wizard of OZ.</span><br />\n<br />\n<br />\n&nbsp\;
LOCATION:Tower Theater 120 S. Kansas
UID:e.1244.17006
SEQUENCE:3
DTSTAMP:20260420T214659Z
URL:https://business.weslaco.com/events/details/weslaco-east-presents-the-wizard-of-oz-17006
END:VEVENT

END:VCALENDAR
