BEGIN:VCALENDAR
VERSION:2.0
PRODID:-//ChamberMaster//Event Calendar 2.0//EN
METHOD:PUBLISH
X-PUBLISHED-TTL:P3D
REFRESH-INTERVAL:P3D
CALSCALE:GREGORIAN
BEGIN:VEVENT
DTSTART:20160408T150000Z
DTEND:20160408T170000Z
X-MICROSOFT-CDO-ALLDAYEVENT:FALSE
SUMMARY:Weslaco EDC and UTRGV Google Seminar
DESCRIPTION:UTRGV Small Business Development Center and the Weslaco EDC present "Let's Put Our Cities on the Map with Google"\, a presentation that will show you how to make sure your business shows up online.
X-ALT-DESC;FMTTYPE=text/html:UTRGV Small Business Development Center and the Weslaco EDC present &quot\;Let&#39\;s Put Our Cities on the Map with Google&quot\;\, a presentation that will show you how to make sure your business shows up online. &nbsp\;
LOCATION:Weslaco Business Visitor & Event Center 275 S. Kansas
UID:e.1244.10936
SEQUENCE:3
DTSTAMP:20260423T005503Z
URL:https://business.weslaco.com/events/details/weslaco-edc-and-utrgv-google-seminar-04-08-2016-10936
END:VEVENT

END:VCALENDAR
