BEGIN:VCALENDAR
VERSION:2.0
PRODID:-//ChamberMaster//Event Calendar 2.0//EN
METHOD:PUBLISH
X-PUBLISHED-TTL:P3D
REFRESH-INTERVAL:P3D
CALSCALE:GREGORIAN
BEGIN:VEVENT
DTSTART:20200409T150000Z
DTEND:20200409T160000Z
X-MICROSOFT-CDO-ALLDAYEVENT:FALSE
SUMMARY:Weslaco EDC's COVID-19 webinar
DESCRIPTION:The EDC of Weslaco along with SBA/Bank/State Rep. will address options for small businesses in Weslaco and surrounding areas.
X-ALT-DESC;FMTTYPE=text/html:<span style="color: rgb(35\, 35\, 51)\; font-family: Lato\, Helvetica\, Arial\; font-size: 14px\;">The EDC of Weslaco along with SBA/Bank/State Rep. will address options for small businesses in Weslaco and surrounding areas.</span>
LOCATION:https://zoom.us/webinar/register/WN_tETCVNlzTqKOdK8aniR20A?fbclid=IwAR182nWJVufHFHk4ms3OowT4snAGP2qHqZXJreHpNmDE-GoEE0uK9EnVh5E
UID:e.1244.19351
SEQUENCE:3
DTSTAMP:20260419T184058Z
URL:https://business.weslaco.com/events/details/weslaco-edc-s-covid-19-webinar-19351
END:VEVENT

END:VCALENDAR
