BEGIN:VCALENDAR
VERSION:2.0
PRODID:-//ChamberMaster//Event Calendar 2.0//EN
METHOD:PUBLISH
X-PUBLISHED-TTL:P3D
REFRESH-INTERVAL:P3D
CALSCALE:GREGORIAN
BEGIN:VEVENT
DTSTART:20200729T140000Z
DTEND:20200729T150000Z
X-MICROSOFT-CDO-ALLDAYEVENT:FALSE
SUMMARY:Weslaco EDC Small Business Assistance Training
DESCRIPTION:Featuring guest speakers the Weslaco Area Chamber of Commerce and Workforce Solutions. \n\n \nhttps://us02web.zoom.us/j/86889175488?pwd=TzFETk5mbGVXdTdFUGZBNWhLTXZEUT09\n\nMeeting ID: 868 8917 5488\n\nPassword: 817776
X-ALT-DESC;FMTTYPE=text/html:Featuring guest speakers the Weslaco Area Chamber of Commerce and Workforce Solutions.&nbsp\;<br />\n&nbsp\;\n<p class="description" style="background:white"><span style="font-size:14.0pt\;\nfont-family:&quot\;Helvetica&quot\;\,sans-serif\;color:#666666"><a href="https://us02web.zoom.us/j/86889175488?pwd=TzFETk5mbGVXdTdFUGZBNWhLTXZEUT09" title="https://us02web.zoom.us/j/86889175488?pwd=TzFETk5mbGVXdTdFUGZBNWhLTXZEUT09\nCtrl+Click or tap to follow the link">https://us02web.zoom.us/j/86889175488?pwd=TzFETk5mbGVXdTdFUGZBNWhLTXZEUT09</a><o:p><br />\nMeeting ID: 868 8917 5488<br />\nPassword: 817776</o:p></span></p>\n
LOCATION:Zoom
UID:e.1244.19490
SEQUENCE:3
DTSTAMP:20260419T124243Z
URL:https://business.weslaco.com/events/details/weslaco-edc-small-business-assistance-training-19490
END:VEVENT

END:VCALENDAR
