BEGIN:VCALENDAR
VERSION:2.0
PRODID:-//ChamberMaster//Event Calendar 2.0//EN
METHOD:PUBLISH
X-PUBLISHED-TTL:P3D
REFRESH-INTERVAL:P3D
CALSCALE:GREGORIAN
BEGIN:VEVENT
DTSTART:20141009T223000Z
DTEND:20141010T000000Z
X-MICROSOFT-CDO-ALLDAYEVENT:FALSE
SUMMARY:Weslaco EDC Strategic Planning Meeting
DESCRIPTION:Come participate in a planning session for the City of Weslaco.
X-ALT-DESC;FMTTYPE=text/html:Come participate in a planning session for the City of Weslaco.
LOCATION:Business Visitor Center 275 S. Kansas
UID:e.1244.5966
SEQUENCE:3
DTSTAMP:20260424T051614Z
URL:https://business.weslaco.com/events/details/weslaco-edc-strategic-planning-meeting-10-09-2014-5966
END:VEVENT

END:VCALENDAR
