BEGIN:VCALENDAR
VERSION:2.0
PRODID:-//ChamberMaster//Event Calendar 2.0//EN
METHOD:PUBLISH
X-PUBLISHED-TTL:P3D
REFRESH-INTERVAL:P3D
CALSCALE:GREGORIAN
BEGIN:VEVENT
DTSTART:20151029T223000Z
DTEND:20151029T233000Z
X-MICROSOFT-CDO-ALLDAYEVENT:FALSE
SUMMARY:Weslaco Family Dentistry
DESCRIPTION:
X-ALT-DESC;FMTTYPE=text/html:
LOCATION:2307 W. Expressway 83\, Ste. C
UID:e.1244.8748
SEQUENCE:3
DTSTAMP:20260423T112309Z
URL:https://business.weslaco.com/events/details/weslaco-family-dentistry-10-29-2015-8748
END:VEVENT

END:VCALENDAR
