BEGIN:VCALENDAR
VERSION:2.0
PRODID:-//ChamberMaster//Event Calendar 2.0//EN
METHOD:PUBLISH
X-PUBLISHED-TTL:P3D
REFRESH-INTERVAL:P3D
CALSCALE:GREGORIAN
BEGIN:VEVENT
DTSTART:20190411T150000Z
DTEND:20190411T160000Z
X-MICROSOFT-CDO-ALLDAYEVENT:FALSE
SUMMARY:Weslaco Fire Department Groundbreaking Ceremony
DESCRIPTION:Breaking ground on the new Fire-EMS Station!
X-ALT-DESC;FMTTYPE=text/html:Breaking ground on the new Fire-EMS Station!
LOCATION:East of FM 88 and Mile 11 North
UID:e.1244.18125
SEQUENCE:3
DTSTAMP:20260420T130414Z
URL:https://business.weslaco.com/events/details/weslaco-fire-department-groundbreaking-ceremony-18125
END:VEVENT

END:VCALENDAR
