BEGIN:VCALENDAR
VERSION:2.0
PRODID:-//ChamberMaster//Event Calendar 2.0//EN
METHOD:PUBLISH
X-PUBLISHED-TTL:P3D
REFRESH-INTERVAL:P3D
CALSCALE:GREGORIAN
BEGIN:VEVENT
DTSTART:20190801T140000Z
DTEND:20190801T150000Z
X-MICROSOFT-CDO-ALLDAYEVENT:FALSE
SUMMARY:Weslaco High School Field House Ribbon Cutting
DESCRIPTION:
X-ALT-DESC;FMTTYPE=text/html:
LOCATION:Weslaco High School 1005 W. Pike Blvd.
UID:e.1244.18720
SEQUENCE:3
DTSTAMP:20260420T062639Z
URL:https://business.weslaco.com/events/details/weslaco-high-school-field-house-ribbon-cutting-18720
END:VEVENT

END:VCALENDAR
