BEGIN:VCALENDAR
VERSION:2.0
PRODID:-//ChamberMaster//Event Calendar 2.0//EN
METHOD:PUBLISH
X-PUBLISHED-TTL:P3D
REFRESH-INTERVAL:P3D
CALSCALE:GREGORIAN
BEGIN:VEVENT
DTSTART:20151028T223000Z
DTEND:20151028T233000Z
X-MICROSOFT-CDO-ALLDAYEVENT:FALSE
SUMMARY:Weslaco Housing Authority Ribbon Cutting
DESCRIPTION:
X-ALT-DESC;FMTTYPE=text/html:
LOCATION:600 N. Airport Dr.
UID:e.1244.8746
SEQUENCE:3
DTSTAMP:20260423T095807Z
URL:https://business.weslaco.com/events/details/weslaco-housing-authority-ribbon-cutting-10-28-2015-8746
END:VEVENT

END:VCALENDAR
