BEGIN:VCALENDAR
VERSION:2.0
PRODID:-//ChamberMaster//Event Calendar 2.0//EN
METHOD:PUBLISH
X-PUBLISHED-TTL:P3D
REFRESH-INTERVAL:P3D
CALSCALE:GREGORIAN
BEGIN:VEVENT
DTSTART:20180811T140000Z
DTEND:20180811T200000Z
X-MICROSOFT-CDO-ALLDAYEVENT:FALSE
SUMMARY:Weslaco HS Police Camp
DESCRIPTION:Weslaco High School Police Camp for boys & girls ages 12+ (Middle School & High School)\n\nStudents will learn SWAT tactics\, command skills\, CSI\, and other Criminal Justice related techniques.\n\n\n\nAward ceremony is at 3:15 (Parents are invited)\n\n\n\nFor more information\, contact: Eleazar Mendez (emendez@wisd.us)\, Carlos Rodarte (crodarte@wisd.us)\, Chief Esmer Ramirez (eroch0914@wisd.us)\, Asst. Chief Audrey Escamilla (aresca0112@wisd.us)\, or Captain Fred Salazar (fnsala0827@wisd.us)
X-ALT-DESC;FMTTYPE=text/html:Weslaco High School Police Camp for boys &amp\; girls ages 12+ (Middle School &amp\; High School)<br />\nStudents will learn SWAT tactics\, command skills\, CSI\, and other Criminal Justice related techniques.<br />\n<br />\nAward ceremony is at 3:15 (Parents are invited)<br />\n<br />\nFor more information\, contact: Eleazar Mendez (emendez@wisd.us)\, Carlos Rodarte (crodarte@wisd.us)\, Chief Esmer Ramirez (eroch0914@wisd.us)\, Asst. Chief Audrey Escamilla (aresca0112@wisd.us)\, or Captain Fred Salazar (fnsala0827@wisd.us)
LOCATION:Weslaco High School
UID:e.1244.16921
SEQUENCE:3
DTSTAMP:20260421T043837Z
URL:https://business.weslaco.com/events/details/weslaco-hs-police-camp-16921
END:VEVENT

END:VCALENDAR
