BEGIN:VCALENDAR
VERSION:2.0
PRODID:-//ChamberMaster//Event Calendar 2.0//EN
METHOD:PUBLISH
X-PUBLISHED-TTL:P3D
REFRESH-INTERVAL:P3D
CALSCALE:GREGORIAN
BEGIN:VEVENT
DTSTART:20180420T223000Z
DTEND:20180421T003000Z
X-MICROSOFT-CDO-ALLDAYEVENT:FALSE
SUMMARY:Weslaco ISD 18th Annutral Autism Awareness Celebration
DESCRIPTION:Free to the public! Fun activities\, food\, information booths\, door prizes\, and autism merchandise for sale
X-ALT-DESC;FMTTYPE=text/html:Free to the public! Fun activities\, food\, information booths\, door prizes\, and autism merchandise for sale
LOCATION:CTE Early College HS Pavilion 700 S. Bridge
UID:e.1244.15859
SEQUENCE:3
DTSTAMP:20260421T093731Z
URL:https://business.weslaco.com/events/details/weslaco-isd-18th-annutral-autism-awareness-celebration-15859
END:VEVENT

END:VCALENDAR
