BEGIN:VCALENDAR
VERSION:2.0
PRODID:-//ChamberMaster//Event Calendar 2.0//EN
METHOD:PUBLISH
X-PUBLISHED-TTL:P3D
REFRESH-INTERVAL:P3D
CALSCALE:GREGORIAN
BEGIN:VEVENT
DTSTART:20190406T140000Z
DTEND:20190406T220000Z
X-MICROSOFT-CDO-ALLDAYEVENT:FALSE
SUMMARY:Weslaco ISD 2nd Annual Fine Arts Fiesta
DESCRIPTION:Free and open to the public! Featuring:\n\nDrum Circle Jam Session\n\nMake & Take Art Projects\n\nArt Competition & Exhibit\n\nMusic Performances\n\nDance Performances\n\nTheatre Performances\n\nInstrument Petting Zoo\n\nPoetry Readings
X-ALT-DESC;FMTTYPE=text/html:<p>Free and open to the public! Featuring:<br />\nDrum Circle Jam Session<br />\nMake &amp\; Take Art Projects<br />\nArt Competition &amp\; Exhibit<br />\nMusic Performances<br />\nDance Performances<br />\nTheatre Performances<br />\nInstrument Petting Zoo<br />\nPoetry Readings</p>\n
LOCATION:Weslaco ISD Performing Arts Center
UID:e.1244.18051
SEQUENCE:3
DTSTAMP:20260420T130758Z
URL:https://business.weslaco.com/events/details/weslaco-isd-2nd-annual-fine-arts-fiesta-18051
END:VEVENT

END:VCALENDAR
