BEGIN:VCALENDAR
VERSION:2.0
PRODID:-//ChamberMaster//Event Calendar 2.0//EN
METHOD:PUBLISH
X-PUBLISHED-TTL:P3D
REFRESH-INTERVAL:P3D
CALSCALE:GREGORIAN
BEGIN:VEVENT
DTSTART:20170408T123000Z
DTEND:20170408T170000Z
X-MICROSOFT-CDO-ALLDAYEVENT:FALSE
SUMMARY:Weslaco ISD 5K Run/Walk for Dyslexia
DESCRIPTION:Weslaco ISD presents the Cowboy/Cowgirl 5K Run/Walk for Dyslexia.
X-ALT-DESC;FMTTYPE=text/html:Weslaco ISD presents the Cowboy/Cowgirl 5K Run/Walk for Dyslexia.
LOCATION:Isaac Rodriguez Park
UID:e.1244.11958
SEQUENCE:3
DTSTAMP:20260422T053011Z
URL:https://business.weslaco.com/events/details/weslaco-isd-5k-run-walk-for-dyslexia-11958
END:VEVENT

END:VCALENDAR
