BEGIN:VCALENDAR
VERSION:2.0
PRODID:-//ChamberMaster//Event Calendar 2.0//EN
METHOD:PUBLISH
X-PUBLISHED-TTL:P3D
REFRESH-INTERVAL:P3D
CALSCALE:GREGORIAN
BEGIN:VEVENT
DTSTART:20141029T130000Z
DTEND:20141029T170000Z
X-MICROSOFT-CDO-ALLDAYEVENT:FALSE
SUMMARY:Weslaco ISD Family Harvest Health Fair
DESCRIPTION:Sponsored by the WISD Parental Involvement Community Services District and Campus Staff.  Enjoy FREE eye\, glucose and blood pressure screenings\, haircuts\, manicures\, and samples.  Also enjoy arts and crafts\, jewelry and other items for sale.  Over 100 agencies will provide health\, educational and business information.
X-ALT-DESC;FMTTYPE=text/html:Sponsored by the WISD Parental Involvement Community Services District and Campus Staff. &nbsp\;Enjoy FREE eye\, glucose and blood pressure screenings\, haircuts\, manicures\, and samples. &nbsp\;Also enjoy arts and crafts\, jewelry and other items for sale. &nbsp\;Over 100 agencies will provide health\, educational and business information.
LOCATION:Catholic War Veterans Hall North FM 1015 (north of Expressway 83)
UID:e.1244.5967
SEQUENCE:3
DTSTAMP:20260424T051921Z
URL:https://business.weslaco.com/events/details/weslaco-isd-family-harvest-health-fair-10-29-2014-5967
END:VEVENT

END:VCALENDAR
