BEGIN:VCALENDAR
VERSION:2.0
PRODID:-//ChamberMaster//Event Calendar 2.0//EN
METHOD:PUBLISH
X-PUBLISHED-TTL:P3D
REFRESH-INTERVAL:P3D
CALSCALE:GREGORIAN
BEGIN:VEVENT
DTSTART:20171201T003000Z
DTEND:20171201T023000Z
X-MICROSOFT-CDO-ALLDAYEVENT:FALSE
SUMMARY:Weslaco ISD Fine Arts A Hometown Christmas
DESCRIPTION:November 30 - Central Middle School Bands\n\nDecember 4 - Weslaco High School Bands\n\nDecember 5 - B. Garza Middle School Bands\n\nDecember 14 - Weslaco High School Orchestras
X-ALT-DESC;FMTTYPE=text/html:November 30 - Central Middle School Bands<br />\nDecember 4 - Weslaco High School Bands<br />\nDecember 5 - B. Garza Middle School Bands<br />\nDecember 14 - Weslaco High School Orchestras
LOCATION:WISD Performing Arts Center 506 E. 6th Sreet
UID:e.1244.14443
SEQUENCE:3
DTSTAMP:20260421T190326Z
URL:https://business.weslaco.com/events/details/weslaco-isd-fine-arts-a-hometown-christmas-14443
END:VEVENT

END:VCALENDAR
