BEGIN:VCALENDAR
VERSION:2.0
PRODID:-//ChamberMaster//Event Calendar 2.0//EN
METHOD:PUBLISH
X-PUBLISHED-TTL:P3D
REFRESH-INTERVAL:P3D
CALSCALE:GREGORIAN
BEGIN:VEVENT
DTSTART:20180407T140000Z
DTEND:20180407T190000Z
X-MICROSOFT-CDO-ALLDAYEVENT:FALSE
SUMMARY:Weslaco ISD Fine Arts Fiesta
DESCRIPTION:The Weslaco ISD Fine Arts Fiesta is a community wide event celebrating the visual and performing arts. It's FREE and open to the public. Multiple venues will feature performing art students and ensembles\, as well as an art exhibit and competition. Highlights include:\n\n\n	Art competition and exhibit\n	Music performances\n	Dance performances\n	Theatre performances\n	Poetry readings\n	Instrument petting zoo
X-ALT-DESC;FMTTYPE=text/html:<p>The Weslaco ISD Fine Arts Fiesta is a community wide event celebrating the visual and performing arts. It&#39\;s FREE and open to the public. Multiple venues will feature performing art students and ensembles\, as well as an art exhibit and competition. Highlights include:</p>\n\n<ul>\n	<li>Art competition and exhibit</li>\n	<li>Music performances</li>\n	<li>Dance performances</li>\n	<li>Theatre performances</li>\n	<li>Poetry readings</li>\n	<li>Instrument petting zoo</li>\n</ul>\n
LOCATION:WISD Performing Arts Center and Central Middle School
UID:e.1244.15777
SEQUENCE:3
DTSTAMP:20260421T094005Z
URL:https://business.weslaco.com/events/details/weslaco-isd-fine-arts-fiesta-15777
END:VEVENT

END:VCALENDAR
