BEGIN:VCALENDAR
VERSION:2.0
PRODID:-//ChamberMaster//Event Calendar 2.0//EN
METHOD:PUBLISH
X-PUBLISHED-TTL:P3D
REFRESH-INTERVAL:P3D
CALSCALE:GREGORIAN
BEGIN:VEVENT
DTSTART:20140906T123000Z
DTEND:20140906T173000Z
X-MICROSOFT-CDO-ALLDAYEVENT:FALSE
SUMMARY:Weslaco Lions Club Garage Sale
DESCRIPTION:Weslaco Lions Club Garage Sale
X-ALT-DESC;FMTTYPE=text/html:Weslaco Lions Club Garage Sale
LOCATION:307 W. 3rd Street Weslaco\, TX
UID:e.1244.5939
SEQUENCE:3
DTSTAMP:20260424T070842Z
URL:https://business.weslaco.com/events/details/weslaco-lions-club-garage-sale-09-06-2014-5939
END:VEVENT

END:VCALENDAR
