BEGIN:VCALENDAR
VERSION:2.0
PRODID:-//ChamberMaster//Event Calendar 2.0//EN
METHOD:PUBLISH
X-PUBLISHED-TTL:P3D
REFRESH-INTERVAL:P3D
CALSCALE:GREGORIAN
BEGIN:VEVENT
DTSTART:20150213T010000Z
DTEND:20150213T040000Z
X-MICROSOFT-CDO-ALLDAYEVENT:FALSE
SUMMARY:Weslaco Lions Club Lions Night Out with Bronc Basketball
DESCRIPTION:The Weslaco Lions Club will be holding a used eyeglass drive at the UTPA Bronc Basketball game.  Doors open at 6 pm\, game begins at 7 pm.
X-ALT-DESC;FMTTYPE=text/html:The Weslaco Lions Club will be holding a used eyeglass drive at the UTPA Bronc Basketball game.&nbsp\; Doors open at 6 pm\, game begins at 7 pm.&nbsp\;
LOCATION:UTPA Fieldhouse Edinburg\, TX
UID:e.1244.6044
SEQUENCE:3
DTSTAMP:20260423T225230Z
URL:https://business.weslaco.com/events/details/weslaco-lions-club-lions-night-out-with-bronc-basketball-02-12-2015-6044
END:VEVENT

END:VCALENDAR
