BEGIN:VCALENDAR
VERSION:2.0
PRODID:-//ChamberMaster//Event Calendar 2.0//EN
METHOD:PUBLISH
X-PUBLISHED-TTL:P3D
REFRESH-INTERVAL:P3D
CALSCALE:GREGORIAN
BEGIN:VEVENT
DTSTART:20191008T230000Z
DTEND:20191009T010000Z
X-MICROSOFT-CDO-ALLDAYEVENT:FALSE
SUMMARY:Weslaco Mayoral Candidates Forum
DESCRIPTION:Candidates for Weslaco Mayor will be on hand answering questions and discussing issues.
X-ALT-DESC;FMTTYPE=text/html:Candidates for Weslaco Mayor will be on hand answering questions and discussing issues.&nbsp\;
LOCATION:Weslaco Business Visitor & Event Center 275 S. Kansas
UID:e.1244.18776
SEQUENCE:3
DTSTAMP:20260420T031501Z
URL:https://business.weslaco.com/events/details/weslaco-mayoral-candidates-forum-18776
END:VEVENT

END:VCALENDAR
