BEGIN:VCALENDAR
VERSION:2.0
PRODID:-//ChamberMaster//Event Calendar 2.0//EN
METHOD:PUBLISH
X-PUBLISHED-TTL:P3D
REFRESH-INTERVAL:P3D
CALSCALE:GREGORIAN
BEGIN:VEVENT
DTSTART:20150605T010000Z
DTEND:20150605T030000Z
X-MICROSOFT-CDO-ALLDAYEVENT:FALSE
SUMMARY:Weslaco Movies at the Park
DESCRIPTION:Feature showing: Finding Nemo
X-ALT-DESC;FMTTYPE=text/html:Feature&nbsp\;showing: Finding Nemo
LOCATION:Mayor Pablo G. Pena City Park 300 N. Airport
UID:e.1244.6278
SEQUENCE:3
DTSTAMP:20260423T162738Z
URL:https://business.weslaco.com/events/details/weslaco-movies-at-the-park-06-04-2015-6278
END:VEVENT

END:VCALENDAR
