BEGIN:VCALENDAR
VERSION:2.0
PRODID:-//ChamberMaster//Event Calendar 2.0//EN
METHOD:PUBLISH
X-PUBLISHED-TTL:P3D
REFRESH-INTERVAL:P3D
CALSCALE:GREGORIAN
BEGIN:VEVENT
DTSTART:20170609T010000Z
DTEND:20170609T030000Z
X-MICROSOFT-CDO-ALLDAYEVENT:FALSE
SUMMARY:Weslaco Movies at the Park
DESCRIPTION:Weekly movie series at Mayor Pablo G. Pena City Park\n\nJune 1 - Trolls\n\nJune 8 - The Sandlot\n\nJune 15 - Storks\n\nJune 22 - Lego Batman Movie\n\nJune 29 - Magnificent 7\n\nJuly 6 - Secret Life of Pets\n\nJuly 13 - Finding Dory\n\nJuly 20 - Captain America Civil War\n\nJuly 27 - Sing
X-ALT-DESC;FMTTYPE=text/html:<p>Weekly movie series at Mayor Pablo G. Pena City Park</p>\n\n<p>June 1 - Trolls<br />\nJune 8 - The Sandlot<br />\nJune 15 - Storks<br />\nJune 22 - Lego Batman Movie<br />\nJune 29 - Magnificent 7<br />\nJuly 6 - Secret Life of Pets<br />\nJuly 13 - Finding Dory<br />\nJuly 20 - Captain America Civil War<br />\nJuly 27 - Sing<br />\n&nbsp\;</p>\n
LOCATION:Mayor Pablo G. Pena City Park 300 N. Airport Dr.
UID:e.1244.12741
SEQUENCE:3
DTSTAMP:20260422T014316Z
URL:https://business.weslaco.com/events/details/weslaco-movies-at-the-park-06-08-2017-12741
END:VEVENT

END:VCALENDAR
