BEGIN:VCALENDAR
VERSION:2.0
PRODID:-//ChamberMaster//Event Calendar 2.0//EN
METHOD:PUBLISH
X-PUBLISHED-TTL:P3D
REFRESH-INTERVAL:P3D
CALSCALE:GREGORIAN
BEGIN:VEVENT
DTSTART:20150612T010000Z
DTEND:20150612T030000Z
X-MICROSOFT-CDO-ALLDAYEVENT:FALSE
SUMMARY:Weslaco Movies at the Park
DESCRIPTION:Feature showing: Up
X-ALT-DESC;FMTTYPE=text/html:Feature&nbsp\;showing: Up
LOCATION:Mayor Pablo G. Pena City Park 300 N. Airport
UID:e.1244.6279
SEQUENCE:3
DTSTAMP:20260423T162737Z
URL:https://business.weslaco.com/events/details/weslaco-movies-at-the-park-06-11-2015-6279
END:VEVENT

END:VCALENDAR
