BEGIN:VCALENDAR
VERSION:2.0
PRODID:-//ChamberMaster//Event Calendar 2.0//EN
METHOD:PUBLISH
X-PUBLISHED-TTL:P3D
REFRESH-INTERVAL:P3D
CALSCALE:GREGORIAN
BEGIN:VEVENT
DTSTART:20150724T010000Z
DTEND:20150724T030000Z
X-MICROSOFT-CDO-ALLDAYEVENT:FALSE
SUMMARY:Weslaco Movies at the Park
DESCRIPTION:Sponsored by Knapp Medical Center
X-ALT-DESC;FMTTYPE=text/html:Sponsored by Knapp Medical Center
LOCATION:Mayor Pablo G. Pena City Park 300 N. Airport Dr.
UID:e.1244.6704
SEQUENCE:3
DTSTAMP:20260423T145258Z
URL:https://business.weslaco.com/events/details/weslaco-movies-at-the-park-07-23-2015-6704
END:VEVENT

END:VCALENDAR
