BEGIN:VCALENDAR
VERSION:2.0
PRODID:-//ChamberMaster//Event Calendar 2.0//EN
METHOD:PUBLISH
X-PUBLISHED-TTL:P3D
REFRESH-INTERVAL:P3D
CALSCALE:GREGORIAN
BEGIN:VEVENT
DTSTART:20180727T010000Z
DTEND:20180727T030000Z
X-MICROSOFT-CDO-ALLDAYEVENT:FALSE
SUMMARY:Weslaco Movies at the Park
DESCRIPTION:Weekly movie series at Mayor Pablo G. Pena City Park\n\nJune 7 - Trolls\n\nJune 14 - The Lion King\n\nJune 21 - Angels in the Outfield\n\nJune 28 - Beauty and the Beast\n\nJuly 12 - Wonder Woman\n\nJuly 19 - Monster University\n\nJuly 26 - Jumanji - Welcome to the Jungle\n\nAugust 2 - Coco
X-ALT-DESC;FMTTYPE=text/html:<p>Weekly movie series at Mayor Pablo G. Pena City Park</p>\n\n<p>June 7 - Trolls<br />\nJune 14 - The Lion King<br />\nJune 21 - Angels in the Outfield<br />\nJune 28 - Beauty and the Beast<br />\nJuly 12 - Wonder Woman<br />\nJuly 19 - Monster University<br />\nJuly 26 - Jumanji - Welcome to the Jungle<br />\nAugust 2 - Coco<br />\n&nbsp\;</p>\n
LOCATION:Mayor Pablo G. Pena City Park 300 N. Airport Dr.
UID:e.1244.16903
SEQUENCE:3
DTSTAMP:20260421T044420Z
URL:https://business.weslaco.com/events/details/weslaco-movies-at-the-park-07-26-2018-16903
END:VEVENT

END:VCALENDAR
